BEGIN:VCALENDAR
VERSION:2.0
PRODID:-//Trouwlocatiewijzer - ECPv6.15.12.2//NONSGML v1.0//EN
CALSCALE:GREGORIAN
METHOD:PUBLISH
X-WR-CALNAME:Trouwlocatiewijzer
X-ORIGINAL-URL:https://www.trouwlocatiewijzer.nl
X-WR-CALDESC:Evenementen voor Trouwlocatiewijzer
REFRESH-INTERVAL;VALUE=DURATION:PT1H
X-Robots-Tag:noindex
X-PUBLISHED-TTL:PT1H
BEGIN:VTIMEZONE
TZID:UTC
BEGIN:STANDARD
TZOFFSETFROM:+0000
TZOFFSETTO:+0000
TZNAME:UTC
DTSTART:20250101T000000
END:STANDARD
END:VTIMEZONE
BEGIN:VEVENT
DTSTART;TZID=UTC:20260315T110000
DTEND;TZID=UTC:20260315T160000
DTSTAMP:20260421T191711
CREATED:20251204T095240Z
LAST-MODIFIED:20251212T151723Z
UID:150-1773572400-1773590400@www.trouwlocatiewijzer.nl
SUMMARY:Wedding Event Ketelhuis – Eindhoven
DESCRIPTION:Op zoek naar een trouw locatie met karakter\, romantiek en een vleugje industriële charme? \nKom dan naar het Wedding Event op 15-3-2026 van 11.00 – tot 16.00 uur\, en maak kennis met het Ketelhuis – op het prachtige Landgoed de Grote Beek in Eindhoven! \n\nVier jullie ceremonie in een stijlvolle industriële setting\nGeniet samen van een sfeervolle borrel of luxe diner\nDans tot laat tijdens jullie eigen spetterende feest.\n\nHet is allemaal mogelijk bij het Ketelhuis! \nKomen jullie ook? Tijdens het Wedding Event geniet je van muziek én een gratis hapje en drankje! \nVraag nu jullie GRATIS entree tickets aan!
URL:https://www.trouwlocatiewijzer.nl/event/wedding-event-ketelhuis-landgoed-de-grote-beek-eindhoven/
LOCATION:Ketelhuis – Landgoed de Grote Beek\, Doctor Poletlaan 45\, Eindhoven\, 5626 NC\, Netherlands
ATTACH;FMTTYPE=image/jpeg:https://www.trouwlocatiewijzer.nl/wp-content/uploads/2025/12/10.jpg
ORGANIZER;CN="Wedding Event By Bommel":MAILTO:nicole@goudsmederijbommel.nl
END:VEVENT
END:VCALENDAR